BEGIN:VCALENDAR
VERSION:2.0
PRODID:-//Wild Child Olympia - ECPv6.15.20//NONSGML v1.0//EN
CALSCALE:GREGORIAN
METHOD:PUBLISH
X-ORIGINAL-URL:https://wildchildolympia.com
X-WR-CALDESC:Events for Wild Child Olympia
REFRESH-INTERVAL;VALUE=DURATION:PT1H
X-Robots-Tag:noindex
X-PUBLISHED-TTL:PT1H
BEGIN:VTIMEZONE
TZID:America/Los_Angeles
BEGIN:DAYLIGHT
TZOFFSETFROM:-0800
TZOFFSETTO:-0700
TZNAME:PDT
DTSTART:20250309T100000
END:DAYLIGHT
BEGIN:STANDARD
TZOFFSETFROM:-0700
TZOFFSETTO:-0800
TZNAME:PST
DTSTART:20251102T090000
END:STANDARD
BEGIN:DAYLIGHT
TZOFFSETFROM:-0800
TZOFFSETTO:-0700
TZNAME:PDT
DTSTART:20260308T100000
END:DAYLIGHT
BEGIN:STANDARD
TZOFFSETFROM:-0700
TZOFFSETTO:-0800
TZNAME:PST
DTSTART:20261101T090000
END:STANDARD
BEGIN:DAYLIGHT
TZOFFSETFROM:-0800
TZOFFSETTO:-0700
TZNAME:PDT
DTSTART:20270314T100000
END:DAYLIGHT
BEGIN:STANDARD
TZOFFSETFROM:-0700
TZOFFSETTO:-0800
TZNAME:PST
DTSTART:20271107T090000
END:STANDARD
END:VTIMEZONE
BEGIN:VEVENT
DTSTART;VALUE=DATE:20260402
DTEND;VALUE=DATE:20260403
DTSTAMP:20260422T020853
CREATED:20260402T080221Z
LAST-MODIFIED:20260402T230206Z
UID:5429-1775088000-1775174399@wildchildolympia.com
SUMMARY:Trivia
DESCRIPTION:
URL:https://wildchildolympia.com/event/trivia-43/
END:VEVENT
BEGIN:VEVENT
DTSTART;TZID=America/Los_Angeles:20260402T153000
DTEND;TZID=America/Los_Angeles:20260402T163000
DTSTAMP:20260422T020853
CREATED:20260402T080221Z
LAST-MODIFIED:20260402T230201Z
UID:5430-1775143800-1775147400@wildchildolympia.com
SUMMARY:HOLLOW DAZE + CHIPPED NAIL POLISH +  LANA RAE JARVIS - Doors at 7 and show at 7:30pm
DESCRIPTION:
URL:https://wildchildolympia.com/event/hollow-daze-chipped-nail-polish-lana-rae-jarvis-doors-at-7-and-show-at-730pm/
END:VEVENT
END:VCALENDAR